BEGIN:VCALENDAR
VERSION:2.0
PRODID:-//Orkney Camera Club - ECPv6.15.18//NONSGML v1.0//EN
CALSCALE:GREGORIAN
METHOD:PUBLISH
X-WR-CALNAME:Orkney Camera Club
X-ORIGINAL-URL:https://orkneycameraclub.co.uk
X-WR-CALDESC:Events for Orkney Camera Club
REFRESH-INTERVAL;VALUE=DURATION:PT1H
X-Robots-Tag:noindex
X-PUBLISHED-TTL:PT1H
BEGIN:VTIMEZONE
TZID:Europe/London
BEGIN:DAYLIGHT
TZOFFSETFROM:+0000
TZOFFSETTO:+0100
TZNAME:BST
DTSTART:20250330T010000
END:DAYLIGHT
BEGIN:STANDARD
TZOFFSETFROM:+0100
TZOFFSETTO:+0000
TZNAME:GMT
DTSTART:20251026T010000
END:STANDARD
BEGIN:DAYLIGHT
TZOFFSETFROM:+0000
TZOFFSETTO:+0100
TZNAME:BST
DTSTART:20260329T010000
END:DAYLIGHT
BEGIN:STANDARD
TZOFFSETFROM:+0100
TZOFFSETTO:+0000
TZNAME:GMT
DTSTART:20261025T010000
END:STANDARD
BEGIN:DAYLIGHT
TZOFFSETFROM:+0000
TZOFFSETTO:+0100
TZNAME:BST
DTSTART:20270328T010000
END:DAYLIGHT
BEGIN:STANDARD
TZOFFSETFROM:+0100
TZOFFSETTO:+0000
TZNAME:GMT
DTSTART:20271031T010000
END:STANDARD
END:VTIMEZONE
BEGIN:VEVENT
DTSTART;TZID=Europe/London:20260115T193000
DTEND;TZID=Europe/London:20260115T213000
DTSTAMP:20260419T165118
CREATED:20250903T192455Z
LAST-MODIFIED:20250903T192455Z
UID:382-1768505400-1768512600@orkneycameraclub.co.uk
SUMMARY:Medium & large format **Upstairs**
DESCRIPTION:Gari Beet & ???? will provide an introduction to this form of photography.
URL:https://orkneycameraclub.co.uk/meeting/medium-large-format-upstairs/
LOCATION:Firth Community Centre\, Firth Community Centre Maitland Place\, Finstown\, Orkney\, KW17 2EQ\, United Kingdom
CATEGORIES:Discussion Evenings,Workshops
ORGANIZER;CN="Orkney Camera Club":MAILTO:info@orkneycameraclub.co.uk
END:VEVENT
BEGIN:VEVENT
DTSTART;TZID=Europe/London:20260129T193000
DTEND;TZID=Europe/London:20260129T213000
DTSTAMP:20260419T165118
CREATED:20250903T192632Z
LAST-MODIFIED:20260121T105847Z
UID:384-1769715000-1769722200@orkneycameraclub.co.uk
SUMMARY:Local Speaker Ingrid Grieve & C2 Competition "Macro" Deadline
DESCRIPTION:Ingrid Grieve is a well respected local artist based in Orphir\, is coming in to talk to the club. \nC2 – Club competition “Macro” deadline
URL:https://orkneycameraclub.co.uk/meeting/local-speaker-c2-competition-macro-deadline/
LOCATION:Firth Community Centre\, Firth Community Centre Maitland Place\, Finstown\, Orkney\, KW17 2EQ\, United Kingdom
CATEGORIES:Competitions,External Speakers
ORGANIZER;CN="Orkney Camera Club":MAILTO:info@orkneycameraclub.co.uk
END:VEVENT
BEGIN:VEVENT
DTSTART;TZID=Europe/London:20260212T193000
DTEND;TZID=Europe/London:20260212T213000
DTSTAMP:20260419T165118
CREATED:20250903T192731Z
LAST-MODIFIED:20250903T192731Z
UID:386-1770924600-1770931800@orkneycameraclub.co.uk
SUMMARY:External Speaker
DESCRIPTION:TBA
URL:https://orkneycameraclub.co.uk/meeting/external-speaker/
LOCATION:Firth Community Centre\, Firth Community Centre Maitland Place\, Finstown\, Orkney\, KW17 2EQ\, United Kingdom
CATEGORIES:External Speakers
ORGANIZER;CN="Orkney Camera Club":MAILTO:info@orkneycameraclub.co.uk
END:VEVENT
BEGIN:VEVENT
DTSTART;TZID=Europe/London:20260225T193000
DTEND;TZID=Europe/London:20260225T213000
DTSTAMP:20260419T165118
CREATED:20250903T193012Z
LAST-MODIFIED:20250903T193017Z
UID:388-1772047800-1772055000@orkneycameraclub.co.uk
SUMMARY:Judging B2 (Islesbrugh) **Wednesday - Upstairs** B3 Deadline
DESCRIPTION:Results of the Islesburgh bipartite challenge. \nB3 – Banbury challenge “open subject” deadline.
URL:https://orkneycameraclub.co.uk/meeting/judging-b2-islesbrugh-wednesday-upstairs-b3-deadline/
LOCATION:Firth Community Centre\, Firth Community Centre Maitland Place\, Finstown\, Orkney\, KW17 2EQ\, United Kingdom
CATEGORIES:Competitions
ORGANIZER;CN="Orkney Camera Club":MAILTO:info@orkneycameraclub.co.uk
END:VEVENT
BEGIN:VEVENT
DTSTART;TZID=Europe/London:20260312T193000
DTEND;TZID=Europe/London:20260312T213000
DTSTAMP:20260419T165118
CREATED:20250903T193122Z
LAST-MODIFIED:20250903T193122Z
UID:390-1773343800-1773351000@orkneycameraclub.co.uk
SUMMARY:Judging C2
DESCRIPTION:Results of “macro” judged by Bill Hodgson
URL:https://orkneycameraclub.co.uk/meeting/judging-c2/
LOCATION:Firth Community Centre\, Firth Community Centre Maitland Place\, Finstown\, Orkney\, KW17 2EQ\, United Kingdom
CATEGORIES:Competitions
ORGANIZER;CN="Orkney Camera Club":MAILTO:info@orkneycameraclub.co.uk
END:VEVENT
BEGIN:VEVENT
DTSTART;TZID=Europe/London:20260326T193000
DTEND;TZID=Europe/London:20260326T213000
DTSTAMP:20260419T165118
CREATED:20250903T193241Z
LAST-MODIFIED:20250903T193313Z
UID:392-1774553400-1774560600@orkneycameraclub.co.uk
SUMMARY:Image critique & Annual competition deadline
DESCRIPTION:Bring prints or digital images for critiquing \nC3 – Annual competition deadline.
URL:https://orkneycameraclub.co.uk/meeting/image-critique/
LOCATION:Firth Community Centre\, Firth Community Centre Maitland Place\, Finstown\, Orkney\, KW17 2EQ\, United Kingdom
CATEGORIES:Competitions,Discussion Evenings,Workshops
ORGANIZER;CN="Orkney Camera Club":MAILTO:info@orkneycameraclub.co.uk
END:VEVENT
BEGIN:VEVENT
DTSTART;TZID=Europe/London:20260413T193000
DTEND;TZID=Europe/London:20260413T213000
DTSTAMP:20260419T165118
CREATED:20250903T193408Z
LAST-MODIFIED:20251002T171056Z
UID:395-1776108600-1776115800@orkneycameraclub.co.uk
SUMMARY:Judging B3 (Banbury)
DESCRIPTION:Results of the Banbury bipartite challenge
URL:https://orkneycameraclub.co.uk/meeting/judging-b3-banbury/
LOCATION:Firth Community Centre\, Firth Community Centre Maitland Place\, Finstown\, Orkney\, KW17 2EQ\, United Kingdom
CATEGORIES:Competitions
ORGANIZER;CN="Orkney Camera Club":MAILTO:info@orkneycameraclub.co.uk
END:VEVENT
BEGIN:VEVENT
DTSTART;TZID=Europe/London:20260423T193000
DTEND;TZID=Europe/London:20260423T213000
DTSTAMP:20260419T165118
CREATED:20250903T193504Z
LAST-MODIFIED:20250903T193504Z
UID:397-1776972600-1776979800@orkneycameraclub.co.uk
SUMMARY:Outdoor even **TBA**
DESCRIPTION:TBA
URL:https://orkneycameraclub.co.uk/meeting/outdoor-even-tba/
CATEGORIES:Practical/Creative Evenings
ORGANIZER;CN="Orkney Camera Club":MAILTO:info@orkneycameraclub.co.uk
END:VEVENT
BEGIN:VEVENT
DTSTART;TZID=Europe/London:20260507T193000
DTEND;TZID=Europe/London:20260507T213000
DTSTAMP:20260419T165118
CREATED:20250903T193603Z
LAST-MODIFIED:20250903T193603Z
UID:399-1778182200-1778189400@orkneycameraclub.co.uk
SUMMARY:Judging C3 (Annual Competition)
DESCRIPTION:Results of the annual competition
URL:https://orkneycameraclub.co.uk/meeting/judging-c3-annual-competition/
LOCATION:Firth Community Centre\, Firth Community Centre Maitland Place\, Finstown\, Orkney\, KW17 2EQ\, United Kingdom
CATEGORIES:Competitions
ORGANIZER;CN="Orkney Camera Club":MAILTO:info@orkneycameraclub.co.uk
END:VEVENT
BEGIN:VEVENT
DTSTART;TZID=Europe/London:20260528T193000
DTEND;TZID=Europe/London:20260528T213000
DTSTAMP:20260419T165118
CREATED:20250903T193752Z
LAST-MODIFIED:20250903T193752Z
UID:402-1779996600-1780003800@orkneycameraclub.co.uk
SUMMARY:AGM
DESCRIPTION:Review the season and the club’s fortunes. \nElect a committee. Have your say.
URL:https://orkneycameraclub.co.uk/meeting/agm-2/
LOCATION:Firth Community Centre\, Firth Community Centre Maitland Place\, Finstown\, Orkney\, KW17 2EQ\, United Kingdom
CATEGORIES:Discussion Evenings
ORGANIZER;CN="Orkney Camera Club":MAILTO:info@orkneycameraclub.co.uk
END:VEVENT
END:VCALENDAR